BEGIN:VCALENDAR
VERSION:2.0
PRODID:-//wp-events-plugin.com//7.2.3.1//EN
BEGIN:VEVENT
UID:37@iwwerzwersch.de
DTSTART:20250511T110000Z
DTEND:20250511T160000Z
DTSTAMP:20250226T191051Z
URL:https://www.iwwerzwersch.de/events/irischer-fruehschoppen-2025-mit-der
 -band-the-blue-blistering-barnacles/
SUMMARY:Irischer Frühschoppen 2025 mit der Band THE BLUE BLISTERING BARNAC
 LES
DESCRIPTION:&nbsp\;\n\nWeitere Infornationen zu der Band  auf der Webseite
  von THE BLUE BLISTERING BARNACLES\n\n\nFür Essen (Bratwurst\, Kuchen\, e
 tc.) und Trinken (Guinness Bier (!)\, Kaffee etc.) ist gesorgt.\n\nDer Ein
 tritt ist frei. Spenden erwünscht\n\nWir freuen uns auf Euch\n\nEure Iwwe
 rzwersche
ATTACH;FMTTYPE=image/jpeg:https://www.iwwerzwersch.de/wp-content/uploads/2
 025/02/THE-BLUE-BLISTERING-BARNACLES-1.jpg
CATEGORIES:Veranstaltungen
LOCATION:Obst- und Gartenbauverein 1888 Griesheim e.V\, Rückgasse 1 (Ecke 
 L3303)\, Griesheim\, Hessen\, 64347\, Deutschland
GEO:49.848863;8.551693
X-APPLE-STRUCTURED-LOCATION;VALUE=URI;X-ADDRESS=Rückgasse 1 (Ecke L3303)\,
  Griesheim\, Hessen\, 64347\, Deutschland;X-APPLE-RADIUS=100;X-TITLE=Obst-
  und Gartenbauverein 1888 Griesheim e.V:geo:49.848863,8.551693
END:VEVENT
END:VCALENDAR