BEGIN:VCALENDAR
VERSION:2.0
PRODID:-//wp-events-plugin.com//7.2.3.1//EN
BEGIN:VEVENT
UID:41@iwwerzwersch.de
DTSTART:20260426T110000Z
DTEND:20260426T160000Z
DTSTAMP:20260315T201459Z
URL:https://www.iwwerzwersch.de/events/irischer-fruehschoppen-2026/
SUMMARY:Irischer Frühschoppen 2026
DESCRIPTION:\n\n\n\n\nDiesmal mit\nThe McGibbies\nIrish\, Scottish &amp\; G
 erman Folk Music\n\nwww.mcgibbie.de\nTermin vormerken\nBitte haltet euch d
 en Termin frei!\nKulinarisches Angebot\nFür euer leibliches Wohl ist best
 ens gesorgt:\n\n 	Essen: Bratwurst\, Kuchen und mehr\n 	Trinken: Guinness 
 Bier\, Kaffee und weitere Getränke\n\nEintritt und Spenden\nDer Eintritt 
 ist frei\, jedoch sind Spenden herzlich willkommen.\n\nWir freuen uns auf 
 euch!\n\nEure Iwwerzwersche\n\n\n\n\n
CATEGORIES:Veranstaltungen
LOCATION:Obst- und Gartenbauverein\, Rückgasse 1\, Griesheim\, Hessen\, 64
 347\, Deutschland
GEO:49.849737;8.556845
X-APPLE-STRUCTURED-LOCATION;VALUE=URI;X-ADDRESS=Rückgasse 1\, Griesheim\, 
 Hessen\, 64347\, Deutschland;X-APPLE-RADIUS=100;X-TITLE=Obst- und Gartenba
 uverein:geo:49.849737,8.556845
END:VEVENT
END:VCALENDAR